BEGIN:VCALENDAR
VERSION:2.0
PRODID:-//ExpressionEngine Easy iCalendar plugin//NONSGML v2.0.1//EN
X-WR-TIMEZONE:America/Chicago
X-WR-CALNAME:Upcoming Auctions
BEGIN:VEVENT
UID:151618
DTSTAMP:20260131T090000
DTSTART:20260131T090000
DTEND:20260131T100000
SUMMARY:January 31st Equipment Auction
LOCATION:48252 US 127\, Pikeville\, TN 37367\, US
DESCRIPTION:Join us January 31st at 9am CST for a BIG Equipment Auction!
  We will be selling in a heated facility so don't let the we
 ather deter you from joining us LIVE at 48252 US 127 Pikevil
 le\, TN 37367. We will be selling over 500 pieces of good Equ
 ipment. Food truck will be onsite. There is a 10% live buyer
 s premium for live bidders and 12% online buyers premium. Sa
 les Tax will apply to new equipment only unless a resale car
 d or farm tax card is presented. Any questions please call o
 ur office 423-533-2232.
URL:https://www.buywlas.com/auctions/detail/bw151618
SEQUENCE:1
END:VEVENT
END:VCALENDAR