BEGIN:VCALENDAR
VERSION:2.0
PRODID:-//ExpressionEngine Easy iCalendar plugin//NONSGML v2.0.1//EN
X-WR-TIMEZONE:America/Chicago
X-WR-CALNAME:Upcoming Auctions
BEGIN:VEVENT
UID:150690
DTSTAMP:20251021T110000
DTSTART:20251021T110000
DTEND:20251108T090000
SUMMARY:Estate of Lee Etta Lipke- 134 Blaine Street Pikeville\, TN 37
 367
LOCATION:{location}
DESCRIPTION:Personal Property will sell *LIVE* Only. Home sells LIVE and
  ONLINE- 3 Bed 2 Bath Residential home sitting on a 90' x 14
 5' Lot in the heart of Pikeville TN. Paved Drive\, Fenced Bac
 k Yard\, and Outbuildings. The opportunities are endless for 
 a forever family home\, Investment Property or Rental Home. C
 all us today to schedule your showing. 
URL:https://www.buywlas.com/auctions/detail/bw150690
SEQUENCE:1
END:VEVENT
END:VCALENDAR