BEGIN:VCALENDAR
VERSION:2.0
PRODID:-//ExpressionEngine Easy iCalendar plugin//NONSGML v2.0.1//EN
X-WR-TIMEZONE:America/Chicago
X-WR-CALNAME:Upcoming Auctions
BEGIN:VEVENT
UID:149802
DTSTAMP:20251006T203700
DTSTART:20251006T203700
DTEND:20251023T180000
SUMMARY:158 Beaty Cove Rd Pikeville\, TN 37367
LOCATION:{location}
DESCRIPTION:158 Beaty Cove Rd Pikeville TN 37367  5 Bed 3 Bath on 4.85 
 +/- Acres  Peaceful and beautiful located minutes from Down
 town Pikeville\, Crossville or Dunlap! Call us today to sched
 ule your showing 423-533-2232
URL:https://www.buywlas.com/auctions/detail/bw149802
SEQUENCE:1
END:VEVENT
END:VCALENDAR