BEGIN:VCALENDAR
VERSION:2.0
PRODID:-//ExpressionEngine Easy iCalendar plugin//NONSGML v2.0.1//EN
X-WR-TIMEZONE:America/Chicago
X-WR-CALNAME:Upcoming Auctions
BEGIN:VEVENT
UID:146036
DTSTAMP:20251004T105500
DTSTART:20251004T105500
DTEND:20251004T115500
SUMMARY:129 Sawmill Rd Pikeville Tn 37367
LOCATION:{location}
DESCRIPTION:**ABSOLUTE AUCTION** 129 Sawmill Rd Pikeville Tn 37367  5+/
 - Acre Commercial Lot located in the Heart of Pikeville\, wit
 h endless possibilities and potential. Map:065H Parcel:001.0
 0 Approx. 382ft of Road Frontage on Sawmill Rd  Approx. 56
 8ft of Road Frontage on W Railroad Ave  Approx. 209Ft of Ro
 ad Frontage on Blaine St Sewer\, Water\, Natural Gas\, and 3 Ph
 ase Electric are all available.  Property is partially fenc
 ed in Chain Link Fence and includes a 24x108 Workshop and 24
 x40 Shed.   More pictures and details to come.
URL:https://www.buywlas.com/auctions/detail/bw146036
SEQUENCE:1
END:VEVENT
END:VCALENDAR