BEGIN:VCALENDAR
VERSION:2.0
PRODID:-//ExpressionEngine Easy iCalendar plugin//NONSGML v2.0.1//EN
X-WR-TIMEZONE:America/Chicago
X-WR-CALNAME:Upcoming Auctions
BEGIN:VEVENT
UID:145957
DTSTAMP:20250906T100000
DTSTART:20250906T100000
DTEND:20250906T110000
SUMMARY:1574 & 1537 Watson Loop Pikeville TN 37367
LOCATION:{location}
DESCRIPTION:1574 Watson Loop Pikeville TN 37367- 3 Bed 2 Bath 12.56 +/- 
 Acres 1537 Watson Loop Pikeville TN 37367- 1 bed 2 bath 5.19
  +/- Acres
URL:https://www.buywlas.com/auctions/detail/bw145957
SEQUENCE:1
END:VEVENT
END:VCALENDAR