BEGIN:VCALENDAR
VERSION:2.0
PRODID:-//ExpressionEngine Easy iCalendar plugin//NONSGML v2.0.1//EN
X-WR-TIMEZONE:America/Chicago
X-WR-CALNAME:Upcoming Auctions
BEGIN:VEVENT
UID:145589
DTSTAMP:20251004T084500
DTSTART:20251004T084500
DTEND:20251004T094500
SUMMARY:Angel Estate Complete Equipment Liquidation
LOCATION:48252 US 127\, Pikeville\, TN 37367\, US
DESCRIPTION:Angel Estate Absolute Complete Equipment Liquidation 400+ Lo
 ts Check back daily for catalog updates. Auction will be liv
 e and online  October 4th @ 9am CDT
URL:https://www.buywlas.com/auctions/detail/bw145589
SEQUENCE:1
END:VEVENT
END:VCALENDAR