BEGIN:VCALENDAR
VERSION:2.0
PRODID:-//ExpressionEngine Easy iCalendar plugin//NONSGML v2.0.1//EN
X-WR-TIMEZONE:America/Chicago
X-WR-CALNAME:Upcoming Auctions
BEGIN:VEVENT
UID:143630
DTSTAMP:20250807T180000
DTSTART:20250807T180000
DTEND:20250807T190000
SUMMARY:520 Gray Rock Vw\, Pikeville\, TN 37367
LOCATION:{location}
DESCRIPTION:Preview By Appointment Only: Sarah Lawrence 423-368-6659\, Bl
 ake Walker 423-618-9831 
URL:https://www.buywlas.com/auctions/detail/bw143630
SEQUENCE:1
END:VEVENT
END:VCALENDAR