BEGIN:VCALENDAR
VERSION:2.0
PRODID:-//ExpressionEngine Easy iCalendar plugin//NONSGML v2.0.1//EN
X-WR-TIMEZONE:America/Chicago
X-WR-CALNAME:Upcoming Auctions
BEGIN:VEVENT
UID:143204
DTSTAMP:20250401T103200
DTSTART:20250401T103200
DTEND:20250407T103300
SUMMARY:SOLD- Rhea County Surplus Auction
LOCATION:{location}
DESCRIPTION:FEATURING- 20+ Vehicles Selling ABSOLUTE and other select co
 nsigments selling APRIL 7\, 2025 at 5pm CDT! This Auction is 
 ONLINE ONLY! Surplus Vehicles are located at 711 EAGLE LANE 
 DAYTON TN. PREVIEW those vehicles APRIL 4\, 2025 10am-2pm CDT
 . CALL 423-618-9831 Find this AUCTION at walkerland.hibid.co
 m
URL:https://www.buywlas.com/auctions/detail/bw143204
SEQUENCE:1
END:VEVENT
END:VCALENDAR