BEGIN:VCALENDAR
VERSION:2.0
PRODID:-//ExpressionEngine Easy iCalendar plugin//NONSGML v2.0.1//EN
X-WR-TIMEZONE:America/Chicago
X-WR-CALNAME:Upcoming Auctions
BEGIN:VEVENT
UID:143157
DTSTAMP:20241119T155000
DTSTART:20241119T155000
DTEND:20241119T155100
SUMMARY:SOLD- 00 Otis Davis Rd Pikeville TN 37367
LOCATION:{location}
DESCRIPTION:104.55 +/- Acres
URL:https://www.buywlas.com/auctions/detail/bw143157
SEQUENCE:1
END:VEVENT
END:VCALENDAR