BEGIN:VCALENDAR
VERSION:2.0
PRODID:-//ExpressionEngine Easy iCalendar plugin//NONSGML v2.0.1//EN
X-WR-TIMEZONE:America/Chicago
X-WR-CALNAME:Upcoming Auctions
BEGIN:VEVENT
UID:143153
DTSTAMP:20250207T154000
DTSTART:20250207T154000
DTEND:20250411T154000
SUMMARY:SOLD- 9169 Old State Hwy 28 Pikeville TN 37367
LOCATION:{location}
DESCRIPTION:3 Bed 2 Bath Mobile Home 4.56 +/- Acres.
URL:https://www.buywlas.com/auctions/detail/bw143153
SEQUENCE:1
END:VEVENT
END:VCALENDAR