BEGIN:VCALENDAR
VERSION:2.0
PRODID:-//ExpressionEngine Easy iCalendar plugin//NONSGML v2.0.1//EN
X-WR-TIMEZONE:America/Chicago
X-WR-CALNAME:Upcoming Auctions
BEGIN:VEVENT
UID:143150
DTSTAMP:20250426T151800
DTSTART:20250426T151800
DTEND:20250602T151800
SUMMARY:SOLD- 4080 Big Springs Gap Ln Pikeville TN 37367
LOCATION:{location}
DESCRIPTION:3 Bed 2 Bath Home on 2.5 +/- Acres
URL:https://www.buywlas.com/auctions/detail/bw143150
SEQUENCE:1
END:VEVENT
END:VCALENDAR