BEGIN:VCALENDAR
VERSION:2.0
PRODID:-//ExpressionEngine Easy iCalendar plugin//NONSGML v2.0.1//EN
X-WR-TIMEZONE:America/Chicago
X-WR-CALNAME:Upcoming Auctions
BEGIN:VEVENT
UID:143143
DTSTAMP:20250809T090000
DTSTART:20250809T090000
DTEND:20250809T100000
SUMMARY:August 9th Gun\, Knife & Coin Extravaganza
LOCATION:48252 US 127\, Pikeville \, TN 37367\, US
DESCRIPTION:NOW TAKING CONSIGNMENTS! Please call (423) 533-2232 
URL:https://www.buywlas.com/auctions/detail/bw143143
SEQUENCE:1
END:VEVENT
END:VCALENDAR