BEGIN:VCALENDAR
VERSION:2.0
PRODID:-//ExpressionEngine Easy iCalendar plugin//NONSGML v2.0.1//EN
X-WR-TIMEZONE:America/Chicago
X-WR-CALNAME:Upcoming Auctions
BEGIN:VEVENT
UID:143044
DTSTAMP:20250719T090000
DTSTART:20250719T090000
DTEND:20250719T100000
SUMMARY:SOLD-76 Anderson Road Pikeville\, TN 37367
LOCATION:{location}
DESCRIPTION:2 Houses with 5+/- acres. 200+ items of personal property at
  auction. ** NO BUYERS PREMUIM **  
URL:https://www.buywlas.com/auctions/detail/bw143044
SEQUENCE:1
END:VEVENT
END:VCALENDAR