BEGIN:VCALENDAR
VERSION:2.0
PRODID:-//ExpressionEngine Easy iCalendar plugin//NONSGML v2.0.1//EN
X-WR-TIMEZONE:America/Chicago
X-WR-CALNAME:Upcoming Auctions
BEGIN:VEVENT
UID:143040
DTSTAMP:20250628T100000
DTSTART:20250628T100000
DTEND:20250628T110000
SUMMARY:SOLD-1459 Porch Rock Rd Pikeville Tn 37367
LOCATION:{location}
DESCRIPTION:June 28th at 10am CDT 2Bed/1Bath 1200 SQFT 9.4 +/- Acres Bre
 athtaking view of the Sequatchie Valley. Auction will be hel
 d onsite at 1459 Porch Rock Rd Pikeville\, TN 37367 on June 2
 8th @ 10am Central Time!!
URL:https://www.buywlas.com/auctions/detail/bw143040
SEQUENCE:1
END:VEVENT
END:VCALENDAR