BEGIN:VCALENDAR
VERSION:2.0
PRODID:-//ExpressionEngine Easy iCalendar plugin//NONSGML v2.0.1//EN
X-WR-TIMEZONE:America/Chicago
X-WR-CALNAME:Upcoming Auctions
BEGIN:VEVENT
UID:142976
DTSTAMP:20250401T100000
DTSTART:20250401T100000
DTEND:20250426T101600
SUMMARY:SOLD- 7778 Upper East Valley Rd Pikeville\, TN 37367
LOCATION:{location}
DESCRIPTION:376.7 Areas offering in 5 tracts
URL:https://www.buywlas.com/auctions/detail/bw142976
SEQUENCE:1
END:VEVENT
END:VCALENDAR